BEGIN:VCALENDAR
VERSION:2.0
PRODID:-//wp-events-plugin.com//7.0.5//EN
TZID:Europe/Berlin
X-WR-TIMEZONE:Europe/Berlin
BEGIN:VEVENT
UID:71@bergedorfer-muehle.de
DTSTART;TZID=Europe/Berlin:20260913T110000
DTEND;TZID=Europe/Berlin:20260913T170000
DTSTAMP:20260227T104042Z
URL:https://bergedorfer-muehle.de/events/tag-des-offenen-denkmals-3/
SUMMARY:Tag des offenen Denkmals
DESCRIPTION:\n\n\n\nFührungen\, Maschinen in Betrieb\, Kaffee &amp\; Hausg
 emachter Kuchen\, Grillstand &amp\; Getränke\, Mühlenbrot zum Mitnehmen\
 n\n\n\n
END:VEVENT
BEGIN:VTIMEZONE
TZID:Europe/Berlin
X-LIC-LOCATION:Europe/Berlin
BEGIN:DAYLIGHT
DTSTART:20260329T030000
TZOFFSETFROM:+0100
TZOFFSETTO:+0200
TZNAME:CEST
END:DAYLIGHT
END:VTIMEZONE
END:VCALENDAR