BEGIN:VCALENDAR
VERSION:2.0
PRODID:-//wp-events-plugin.com//7.0.5//EN
TZID:Europe/Berlin
X-WR-TIMEZONE:Europe/Berlin
BEGIN:VEVENT
UID:19@bergedorfer-muehle.de
DTSTART;TZID=Europe/Berlin:20241027T110000
DTEND;TZID=Europe/Berlin:20241027T170000
DTSTAMP:20240830T212505Z
URL:https://bergedorfer-muehle.de/events/kunsthandwerkermarkt/
SUMMARY:Kunsthandwerkermarkt
DESCRIPTION:
ATTACH;FMTTYPE=image/jpeg:https://bergedorfer-muehle.de/wp-content/uploads
 /2024/08/BM_wintermarkt_PK_2022.jpg
END:VEVENT
BEGIN:VTIMEZONE
TZID:Europe/Berlin
X-LIC-LOCATION:Europe/Berlin
BEGIN:STANDARD
DTSTART:20241027T020000
TZOFFSETFROM:+0200
TZOFFSETTO:+0100
TZNAME:CET
END:STANDARD
END:VTIMEZONE
END:VCALENDAR