BEGIN:VCALENDAR
VERSION:2.0
PRODID:-//wp-events-plugin.com//7.0.5//EN
TZID:Europe/Berlin
X-WR-TIMEZONE:Europe/Berlin
BEGIN:VEVENT
UID:70@bergedorfer-muehle.de
DTSTART;TZID=Europe/Berlin:20260606T200000
DTEND;TZID=Europe/Berlin:20260606T220000
DTSTAMP:20260420T120600Z
URL:https://bergedorfer-muehle.de/events/konzert-petes-garage/
SUMMARY:Konzert – Pete's Garage
DESCRIPTION:\n\n\n\nRock &amp\; Blues\n\n\n\n
ATTACH;FMTTYPE=image/jpeg:https://bergedorfer-muehle.de/wp-content/uploads
 /2026/02/Foto4.jpg
END:VEVENT
BEGIN:VTIMEZONE
TZID:Europe/Berlin
X-LIC-LOCATION:Europe/Berlin
BEGIN:DAYLIGHT
DTSTART:20260329T030000
TZOFFSETFROM:+0100
TZOFFSETTO:+0200
TZNAME:CEST
END:DAYLIGHT
END:VTIMEZONE
END:VCALENDAR