BEGIN:VCALENDAR
VERSION:2.0
PRODID:-//wp-events-plugin.com//7.0.5//EN
TZID:Europe/Berlin
X-WR-TIMEZONE:Europe/Berlin
BEGIN:VEVENT
UID:51@bergedorfer-muehle.de
DTSTART;TZID=Europe/Berlin:20251030T200000
DTEND;TZID=Europe/Berlin:20251030T220000
DTSTAMP:20250413T174340Z
URL:https://bergedorfer-muehle.de/events/konzert-lisa-canny-2/
SUMMARY:Konzert - Lisa Canny
DESCRIPTION:Die mehrfach preisgekrönte irische Sängerin\, Harfenistin und
  Songwriterin Lisa Canny begeistert mit einer explosiven Mischung aus Iris
 h Folk\, Hip-Hop\, Pop und Soul. Ihre Virtuosität an der Harfe\, ihre sta
 rke Bühnenpräsenz und ihr musikalischer Mut machen sie zu einer Ausnahme
 künstlerin.\n\nLisa Canny ist siebenfache All-Ireland-Champion an Harfe u
 nd Banjo\, tourte international\, trat u.a. bei BBC\, RTÉ und Glastonbury
  auf und zählt längst zu den spannendsten Stimmen der modernen irischen 
 Musikszene.\n\nEin Abend voller Energie\, Humor und musikalischer Überras
 chungen – unkonventionell\, mitreißend und absolut sehenswert!\n\n\nEin
 lass 19:00 Uhr\n\nEintritt frei\nUm eine angemessene Hutspende für die K
 ünstler wird freundlich gebeten.\n\nDas Projekt wird aus Mitteln des Bezi
 rksamtes Bergedorf gefördert\n\n\n\n
ATTACH;FMTTYPE=image/jpeg:https://bergedorfer-muehle.de/wp-content/uploads
 /2025/02/Lisa-Canny-Fotograf-Gavin-Coughlan.webp
END:VEVENT
BEGIN:VTIMEZONE
TZID:Europe/Berlin
X-LIC-LOCATION:Europe/Berlin
BEGIN:STANDARD
DTSTART:20251026T020000
TZOFFSETFROM:+0200
TZOFFSETTO:+0100
TZNAME:CET
END:STANDARD
END:VTIMEZONE
END:VCALENDAR