BEGIN:VCALENDAR
VERSION:2.0
PRODID:-//wp-events-plugin.com//7.0.5//EN
TZID:Europe/Berlin
X-WR-TIMEZONE:Europe/Berlin
BEGIN:VEVENT
UID:69@bergedorfer-muehle.de
DTSTART;TZID=Europe/Berlin:20260530T200000
DTEND;TZID=Europe/Berlin:20260530T220000
DTSTAMP:20260420T120149Z
URL:https://bergedorfer-muehle.de/events/konzert-humming-bee/
SUMMARY:Konzert – Humming Bee
DESCRIPTION:\n\n\n\nHandmade Folk-Pop\n\n\n\n\nEinlass ab 19:00 Uhr\n\nEint
 ritt frei\nUm eine angemessene Hutspende für die Künstler wird freundlic
 h gebeten.\n\nDas Projekt wird aus Mitteln des Bezirksamtes Bergedorf gef
 ördert\n\n\n\n\n&nbsp\;\n\n
ATTACH;FMTTYPE=image/jpeg:https://bergedorfer-muehle.de/wp-content/uploads
 /2026/02/Hummingbees-Export-NIklas-Stadler-05-scaled.jpg
END:VEVENT
BEGIN:VTIMEZONE
TZID:Europe/Berlin
X-LIC-LOCATION:Europe/Berlin
BEGIN:DAYLIGHT
DTSTART:20260329T030000
TZOFFSETFROM:+0100
TZOFFSETTO:+0200
TZNAME:CEST
END:DAYLIGHT
END:VTIMEZONE
END:VCALENDAR