BEGIN:VCALENDAR
VERSION:2.0
PRODID:-//wp-events-plugin.com//7.0.5//EN
TZID:Europe/Berlin
X-WR-TIMEZONE:Europe/Berlin
BEGIN:VEVENT
UID:68@bergedorfer-muehle.de
DTSTART;TZID=Europe/Berlin:20260425T200000
DTEND;TZID=Europe/Berlin:20260425T220000
DTSTAMP:20260407T091225Z
URL:https://bergedorfer-muehle.de/events/konzert-asare-russmann-yanotchkin
 -trio/
SUMMARY:Asare Rußmann Yanochkin Trio
DESCRIPTION:\n\n\n\nJazz\, Pop und lateinamerikanische Musik\n\nDie Sänger
 in Beatrice Asare\, die Saxophonistin Bettina Russmann und der Pianist Jea
 n Yanochkin präsentieren ihre persönlichen Lieblingsstücke aus Jazz\, P
 op und lateinamerikanischer Musik. Für ihr Trio haben sie diese Songs far
 benreich und einfallsreich neu arrangiert. Im Mittelpunkt steht dabei ein 
 transparenter\, fein ausbalancierter Klang\, der bewusst die traditionelle
 n Rollen von Melodie und Begleitung hinter sich lässt.\n\n\n\n\nEinlass a
 b 19:00 Uhr\n\nEintritt frei\nUm eine angemessene Hutspende für die Küns
 tler wird freundlich gebeten.\n\nDas Projekt wird aus Mitteln des Bezirksa
 mtes Bergedorf gefördert\n\n\n\n\n&nbsp\;\n\n
ATTACH;FMTTYPE=image/jpeg:https://bergedorfer-muehle.de/wp-content/uploads
 /2026/02/IMG_7256.jpg
END:VEVENT
BEGIN:VTIMEZONE
TZID:Europe/Berlin
X-LIC-LOCATION:Europe/Berlin
BEGIN:DAYLIGHT
DTSTART:20260329T030000
TZOFFSETFROM:+0100
TZOFFSETTO:+0200
TZNAME:CEST
END:DAYLIGHT
END:VTIMEZONE
END:VCALENDAR