BEGIN:VCALENDAR
VERSION:2.0
PRODID:-//wp-events-plugin.com//7.0.5//EN
TZID:Europe/Berlin
X-WR-TIMEZONE:Europe/Berlin
BEGIN:VEVENT
UID:50@bergedorfer-muehle.de
DTSTART;TZID=Europe/Berlin:20250222T200000
DTEND;TZID=Europe/Berlin:20250222T220000
DTSTAMP:20250120T105656Z
URL:https://bergedorfer-muehle.de/events/jessen-melzer/
SUMMARY:Jessen &  Melzer - Konzert
DESCRIPTION:
END:VEVENT
BEGIN:VTIMEZONE
TZID:Europe/Berlin
X-LIC-LOCATION:Europe/Berlin
BEGIN:STANDARD
DTSTART:20241027T020000
TZOFFSETFROM:+0200
TZOFFSETTO:+0100
TZNAME:CET
END:STANDARD
END:VTIMEZONE
END:VCALENDAR