BEGIN:VCALENDAR
VERSION:2.0
PRODID:-//wp-events-plugin.com//7.0.5//EN
TZID:Europe/Berlin
X-WR-TIMEZONE:Europe/Berlin
BEGIN:VEVENT
UID:24@bergedorfer-muehle.de
DTSTART;TZID=Europe/Berlin:20241116T200000
DTEND;TZID=Europe/Berlin:20241116T220000
DTSTAMP:20241105T121339Z
URL:https://bergedorfer-muehle.de/events/adas-wohnzimmer-feat-takadoon/
SUMMARY:Ada`s Wohnzimmer feat. Takadoon
DESCRIPTION:Gegründet im Jahr 2011\, entführt das Hamburger Duo Takadoon 
 sein Publikum in eine faszinierende Welt aus intelligentem Songwriting\, e
 ingängigen Grooves und stimmungsvollen Harmonien. Sängerin Linda Baum un
 d Keyboarder Christopher Baum haben in den letzten Jahren einen unverkennb
 aren Stil entwickelt\, eine Mischung aus Jazz\, Singer-Songerwriter und Po
 p.\n\n2017 erschien das Debüt-Album Inner Voice\, 2023 folge das Album Pi
 eces\, eine Zusammenarbeit mit Stars der internationalen Jazz Szene wie Gr
 ammy-Gewinner Eric Harland und Will Kennedy von den Yellow Jackets\, welch
 es vom NDR „Play Jazz“ zum Album der Woche gekürt wurde.\n\nDer Eintr
 itt ist frei\, um eine Hutspende wird freundlich gebeten.\nEinlass ab 19:0
 0 Uhr\n\n
ATTACH;FMTTYPE=image/jpeg:https://bergedorfer-muehle.de/wp-content/uploads
 /2024/11/Takadoon-4-b-klein.jpg
END:VEVENT
BEGIN:VTIMEZONE
TZID:Europe/Berlin
X-LIC-LOCATION:Europe/Berlin
BEGIN:STANDARD
DTSTART:20241027T020000
TZOFFSETFROM:+0200
TZOFFSETTO:+0100
TZNAME:CET
END:STANDARD
END:VTIMEZONE
END:VCALENDAR